BEGIN:VCALENDAR
VERSION:2.0
PRODID:-//Tennis Club de Thiais - Ligue du Val de  Marne (94) - ECPv6.4.0.1//NONSGML v1.0//EN
CALSCALE:GREGORIAN
METHOD:PUBLISH
X-WR-CALNAME:Tennis Club de Thiais - Ligue du Val de  Marne (94)
X-ORIGINAL-URL:https://www.tennisclubthiais.fr
X-WR-CALDESC:évènements pour Tennis Club de Thiais - Ligue du Val de  Marne (94)
REFRESH-INTERVAL;VALUE=DURATION:PT1H
X-Robots-Tag:noindex
X-PUBLISHED-TTL:PT1H
BEGIN:VTIMEZONE
TZID:Europe/Paris
BEGIN:DAYLIGHT
TZOFFSETFROM:+0100
TZOFFSETTO:+0200
TZNAME:CEST
DTSTART:20190331T010000
END:DAYLIGHT
BEGIN:STANDARD
TZOFFSETFROM:+0200
TZOFFSETTO:+0100
TZNAME:CET
DTSTART:20191027T010000
END:STANDARD
END:VTIMEZONE
BEGIN:VEVENT
DTSTART;VALUE=DATE:20190603
DTEND;VALUE=DATE:20190608
DTSTAMP:20260426T010438
CREATED:20190531T134358Z
LAST-MODIFIED:20190531T135112Z
UID:12506-1559520000-1559951999@www.tennisclubthiais.fr
SUMMARY:Travaux Club house
DESCRIPTION:Durant cette période l’accès au club-house sera interdit.\nMerci de votre compréhension
URL:https://www.tennisclubthiais.fr/evenement/travaux-club-house/
CATEGORIES:Vie du Club
END:VEVENT
END:VCALENDAR